BEGIN:VCALENDAR
VERSION:2.0
PRODID:-//ChamberMaster//Event Calendar 2.0//EN
METHOD:PUBLISH
X-PUBLISHED-TTL:P3D
REFRESH-INTERVAL:P3D
CALSCALE:GREGORIAN
BEGIN:VEVENT
DTSTART:20130326T124500Z
DTEND:20130326T140000Z
X-MICROSOFT-CDO-ALLDAYEVENT:FALSE
SUMMARY:2013 Congressional Breakfast Featuring Senator Inhofe
DESCRIPTION:
X-ALT-DESC;FMTTYPE=text/html:
LOCATION:SpiritBank Event Center 10441 S Regal Blvd Tulsa\, OK 74133
UID:e.1611.301
SEQUENCE:3
DTSTAMP:20260421T153018Z
URL:https://portal.bixbychamber.com/events/details/2013-congressional-breakfast-featuring-senator-inhofe-03-26-2013-301
END:VEVENT

END:VCALENDAR
