BEGIN:VCALENDAR
VERSION:2.0
PRODID:-//ChamberMaster//Event Calendar 2.0//EN
METHOD:PUBLISH
X-PUBLISHED-TTL:P3D
REFRESH-INTERVAL:P3D
CALSCALE:GREGORIAN
BEGIN:VEVENT
DTSTART:20130710T133000Z
DTEND:20130710T213000Z
X-MICROSOFT-CDO-ALLDAYEVENT:FALSE
SUMMARY:2013 Comprehensive Quickbooks
DESCRIPTION:Attendees at this beginner to intermediate level training will learn how QuickBooks can benefit your business. You will learn how to set up QuickBooks for a business as well as working with bank accounts\, entering sales information\, receiving payments and making deposits\, perform payroll\, entering and paying bills\, analyzing financial data\, tracking and paying sales tax\, and customizing forms for your business.\n\nInformation on inventory\, estimating and tracking time are also presented. Attendees enter the information on the computer using practice sets and have the opportunity to ask questions and receive guidance on "how and why".
X-ALT-DESC;FMTTYPE=text/html:<div>Attendees at this beginner to intermediate level training will learn how QuickBooks can benefit your business. You will learn how to set up QuickBooks for a business as well as working with bank accounts\, entering sales information\, receiving payments and making deposits\, perform payroll\, entering and paying bills\, analyzing financial data\, tracking and paying sales tax\, and customizing forms for your business.</div>\n\n<div>Information on inventory\, estimating and tracking time are also presented. Attendees enter the information on the computer using practice sets and have the opportunity to ask questions and receive guidance on &ldquo\;how and why&rdquo\;.</div>\n
LOCATION:REI Oklahoma 7615 East 63rd Place Suite 201 Tulsa\, Oklahoma
UID:e.1611.663
SEQUENCE:3
DTSTAMP:20260421T101621Z
URL:https://portal.bixbychamber.com/events/details/2013-comprehensive-quickbooks-07-10-2013-663
END:VEVENT

END:VCALENDAR
