BEGIN:VCALENDAR
VERSION:2.0
PRODID:-//ChamberMaster//Event Calendar 2.0//EN
METHOD:PUBLISH
X-PUBLISHED-TTL:P3D
REFRESH-INTERVAL:P3D
CALSCALE:GREGORIAN
BEGIN:VEVENT
DTSTART;VALUE=DATE:20130401
DTEND;VALUE=DATE:20130407
TRANSP:TRANSPARENT
X-MICROSOFT-CDO-ALLDAYEVENT:TRUE
SUMMARY:2013 City Wide Baby Shower for the Tulsa Emergency Infant Services
DESCRIPTION:City Wide Baby Shower for the Tulsa Emergency Infant Services event. H&R Block is collecting diaper donations for their City Wide Baby Shower.\n\n \nEvery 32 seconds a child is born into poverty. Help your community and get rewarded.\n\n\n\nBring your diaper donation to a participating H&R Block office April 1   6 and receive $20 off this year's tax preparation. All donations benefit the Tulsa Emergency Infant Services Organization
X-ALT-DESC;FMTTYPE=text/html:<span style="color:black\;"><span style="font-family:tahoma\,sans-serif\;"><span style="font-size:10.0pt\;">City Wide Baby Shower&nbsp\;for&nbsp\;the&nbsp\;Tulsa Emergency Infant Services event. H&amp\;R Block is&nbsp\;collecting diaper donations for their City Wide Baby Shower.</span></span></span><br />\n&nbsp\;\n<div>Every 32 seconds a child is born into poverty. Help your community and get rewarded.</div>\n\n<div><br />\nBring your diaper donation to a participating H&amp\;R Block office April 1 &ndash\; 6 and receive $20 off this year&rsquo\;s tax preparation. All donations benefit the Tulsa Emergency Infant Services Organization</div>\n
LOCATION:
UID:e.1611.621
SEQUENCE:3
DTSTAMP:20260421T142817Z
URL:https://portal.bixbychamber.com/events/details/2013-city-wide-baby-shower-for-the-tulsa-emergency-infant-services-04-01-2013-621
END:VEVENT

END:VCALENDAR
