BEGIN:VCALENDAR
VERSION:2.0
PRODID:-//ChamberMaster//Event Calendar 2.0//EN
METHOD:PUBLISH
X-PUBLISHED-TTL:P3D
REFRESH-INTERVAL:P3D
CALSCALE:GREGORIAN
BEGIN:VEVENT
DTSTART:20130626T003000Z
DTEND:20130626T030000Z
X-MICROSOFT-CDO-ALLDAYEVENT:FALSE
SUMMARY:2013 Cirque Musica at the SpiritBank Event Center
DESCRIPTION:CIRQUE MUSICA is a new concert and visual experience for the entire family\, blending the spell-binding grace and dare-devil athleticism of today's greatest circus performers with the sensory majesty of the greatest music of all time. It is the perfect opportunity to introduce your family to great music including classical\, POPS and more\, while enjoying a rollicking\, shock-tacular circus experience.\n\n\n\nSpirit Bank Event Center has Free tickets available on a 1st come 1st serve basis through the Spirit Bank Event Center for the Cirque Musica. If interested please contact Ryan Cross by emailing him at ryan.cross@spiritbankeventcenter.com with your name and number of tickets requested. Limit of 4 per person.
X-ALT-DESC;FMTTYPE=text/html:CIRQUE MUSICA is a new concert and visual experience for the entire family\, blending the spell-binding grace and dare-devil athleticism of today&rsquo\;s greatest circus performers with the sensory majesty of the greatest music of all time. It is the perfect opportunity to introduce your family to great music including classical\, POPS and more\, while enjoying a rollicking\, shock-tacular circus experience.<br />\n<br />\nSpirit Bank Event Center has Free tickets available on a 1<sup>st</sup> come 1<sup>st</sup> serve basis through the Spirit Bank Event Center for the Cirque Musica. If interested please contact Ryan Cross by emailing him at <a href="mailto:ryan.cross@spiritbankeventcenter.com">ryan.cross@spiritbankeventcenter.com</a> with your name and number of tickets requested. Limit of 4 per person.
LOCATION:SpiritBank Event Center 10441 S. Regal Blvd. Tulsa\, OK 74133
UID:e.1611.646
SEQUENCE:3
DTSTAMP:20260421T115418Z
URL:https://portal.bixbychamber.com/events/details/2013-cirque-musica-at-the-spiritbank-event-center-06-25-2013-646
END:VEVENT

END:VCALENDAR
