BEGIN:VCALENDAR
VERSION:2.0
PRODID:-//ChamberMaster//Event Calendar 2.0//EN
METHOD:PUBLISH
X-PUBLISHED-TTL:P3D
REFRESH-INTERVAL:P3D
CALSCALE:GREGORIAN
BEGIN:VEVENT
DTSTART:20131015T220000Z
DTEND:20131016T020000Z
X-MICROSOFT-CDO-ALLDAYEVENT:FALSE
SUMMARY:2013 Chili's Daddy Daughter Date Night
DESCRIPTION:Come out to your local Chili's Tuesday October 15th\, 2013 and enjoy our Daddy and Daughter Night out from 5 p.m. - 9 p.m.\n\nJoin us for dinner and a night of fun! Everyone is welcome! All participating Guests will receive a free dessert and the first 40 Guests will receive a takeaway photo to remember the special night.\n\nContact your local Chili's for additional details.\n\nCHILI'S BIXBY 11138 S Memorial DR. Bixby\, OK 74008\n\n918-369-3901
X-ALT-DESC;FMTTYPE=text/html:<span style="font-family: write-bold_cond\; font-weight: bold\; font-size: 16pt\;">Come out to your local Chili&#39\;s Tuesday October 15th\, 2013 and enjoy our Daddy and Daughter Night</span>&nbsp\;<strong><span style="font-family:write-bold_cond\;"><span style="font-size:16.0pt\;">out from 5 p.m. - 9 p.m.</span></span></strong><br />\n<strong><span style="font-family:write-bold_cond\;"><span style="font-size:16.0pt\;">Join us for dinner and a night of fun! Everyone is welcome! All participating Guests will receive a free dessert and the first 40 Guests will receive a takeaway photo to remember the special night.</span></span></strong><br />\n<strong><span style="font-family:write-bold_cond\;"><span style="font-size:13.5pt\;">Contact your local Chili&#39\;s for additional details.</span></span></strong><br />\n<strong><span style="font-family:write-bold_cond\;"><span style="font-size:13.5pt\;">CHILI&rsquo\;S BIXBY 11138 S Memorial DR. Bixby\, OK 74008</span></span></strong><br />\n<strong><span style="font-family:write-bold_cond\;"><span style="font-size:13.5pt\;">918-369-3901</span></span></strong>
LOCATION:CHILI'S BIXBY 11138 South Memorial Drive\, Bixby\, OK 74008
UID:e.1611.1230
SEQUENCE:3
DTSTAMP:20260421T063508Z
URL:https://portal.bixbychamber.com/events/details/2013-chili-s-daddy-daughter-date-night-10-15-2013-1230
END:VEVENT

END:VCALENDAR
