BEGIN:VCALENDAR
VERSION:2.0
PRODID:-//ChamberMaster//Event Calendar 2.0//EN
METHOD:PUBLISH
X-PUBLISHED-TTL:P3D
REFRESH-INTERVAL:P3D
CALSCALE:GREGORIAN
BEGIN:VEVENT
DTSTART:20130819T233000Z
DTEND:20130820T003000Z
X-MICROSOFT-CDO-ALLDAYEVENT:FALSE
SUMMARY:2013 Children's Health- Why Do We Get Sick?
DESCRIPTION:Come and join us as Dr. Holman speaks about children's health. Dr. Holman will be covering ear infections\, colic\, boosting the immune system and many more. Learn how to raise a healthy child without the need of medication. See why everyone is buzzing about going natural.
X-ALT-DESC;FMTTYPE=text/html:<span style="font-size:12px\;"><span style="font-family:arial\,sans-serif\;">Come and join us as Dr. Holman speaks about children&rsquo\;s health. Dr. Holman will be covering ear infections\, colic\, boosting the immune system and many more. Learn how to raise a healthy child without the need of medication. See why everyone is buzzing about going natural.</span></span>
LOCATION:Adjust Chiropractic 11045 South Memorial Drive Tulsa\, OK 74133
UID:e.1611.678
SEQUENCE:3
DTSTAMP:20260421T103505Z
URL:https://portal.bixbychamber.com/events/details/2013-children-s-health-why-do-we-get-sick-08-19-2013-678
END:VEVENT

END:VCALENDAR
