BEGIN:VCALENDAR
VERSION:2.0
PRODID:-//ChamberMaster//Event Calendar 2.0//EN
METHOD:PUBLISH
X-PUBLISHED-TTL:P3D
REFRESH-INTERVAL:P3D
CALSCALE:GREGORIAN
BEGIN:VEVENT
DTSTART:20131213T230000Z
DTEND:20131213T233000Z
X-MICROSOFT-CDO-ALLDAYEVENT:FALSE
SUMMARY:2013 Celebrating the Leonard Tree Tradition
DESCRIPTION:The Bixby Historical Society would like to invite you to help celebrate The Leonard Tree Tradition.\n\n\n\nThey will be handing out 500 treat bags for children 12 and under.
X-ALT-DESC;FMTTYPE=text/html:The Bixby Historical Society would like to invite you to help celebrate The Leonard Tree Tradition.<br />\n<br />\nThey will be handing out 500 treat bags for children 12 and under.
LOCATION:Charley Young Park in Downtown Bixby
UID:e.1611.1253
SEQUENCE:3
DTSTAMP:20260421T033629Z
URL:https://portal.bixbychamber.com/events/details/2013-celebrating-the-leonard-tree-tradition-12-13-2013-1253
END:VEVENT

END:VCALENDAR
