BEGIN:VCALENDAR
VERSION:2.0
PRODID:-//ChamberMaster//Event Calendar 2.0//EN
METHOD:PUBLISH
X-PUBLISHED-TTL:P3D
REFRESH-INTERVAL:P3D
CALSCALE:GREGORIAN
BEGIN:VEVENT
DTSTART:20131216T230000Z
DTEND:20131217T010000Z
X-MICROSOFT-CDO-ALLDAYEVENT:FALSE
SUMMARY:2013 Buy Bixby Drawing
DESCRIPTION:The 2013 Buy Bixby winning ticket numbers will be announced December 16 at Sutherlands located at 151st and Memorial. The final remote which the tickets will be announced will be from 5:00   7:00pm. If you have the winning ticket number please call 918-366-0494. Must present ticket to win. You have three (3) business days to claim the winning ticket if not a new winning ticket will be announced.
X-ALT-DESC;FMTTYPE=text/html:The 2013 Buy Bixby winning ticket numbers will be announced December 16 at Sutherlands located at 151st and Memorial. The final remote which the tickets will be announced will be from 5:00 &ndash\; 7:00pm. If you have the winning ticket number please call 918-366-0494. Must present ticket to win. You have three (3) business days to claim the winning ticket if not a new winning ticket will be announced.
LOCATION:Sutherlands Bixby 151st and Memoria
UID:e.1611.1255
SEQUENCE:3
DTSTAMP:20260421T033630Z
URL:https://portal.bixbychamber.com/events/details/2013-buy-bixby-drawing-12-16-2013-1255
END:VEVENT

END:VCALENDAR
