BEGIN:VCALENDAR
VERSION:2.0
PRODID:-//ChamberMaster//Event Calendar 2.0//EN
METHOD:PUBLISH
X-PUBLISHED-TTL:P3D
REFRESH-INTERVAL:P3D
CALSCALE:GREGORIAN
BEGIN:VEVENT
DTSTART:20131101T163000Z
DTEND:20131101T180000Z
X-MICROSOFT-CDO-ALLDAYEVENT:FALSE
SUMMARY:2013 BTC Chili Cook Off
DESCRIPTION:Help us Support Bixby by voting for Best Chili\n\nProceeds benefit the United Way & Bixby Outreach Center\n\nOpen to the public\n\n(We are located east of Reasor's. Look for the 106.1 The Twister Van)\n\nWe Hope you'll join us!
X-ALT-DESC;FMTTYPE=text/html:<span style="font-size:11px\;"><span style="font-family:arial\;"><strong>Help us Support Bixby by voting for Best Chili<br />\nProceeds benefit the&nbsp\;United Way &amp\; Bixby Outreach Center<br />\nOpen to the public<br />\n(We are located east of Reasor&rsquo\;s. Look for the 106.1 The Twister Van)<br />\nWe Hope you&rsquo\;ll join us!</strong></span></span>
LOCATION:BTC Broadband 11134 South Memorial Drive Bixby\, OK 74008
UID:e.1611.1236
SEQUENCE:3
DTSTAMP:20260421T050520Z
URL:https://portal.bixbychamber.com/events/details/2013-btc-chili-cook-off-11-01-2013-1236
END:VEVENT

END:VCALENDAR
