BEGIN:VCALENDAR
VERSION:2.0
PRODID:-//ChamberMaster//Event Calendar 2.0//EN
METHOD:PUBLISH
X-PUBLISHED-TTL:P3D
REFRESH-INTERVAL:P3D
CALSCALE:GREGORIAN
BEGIN:VEVENT
DTSTART;VALUE=DATE:20131207
DTEND;VALUE=DATE:20131208
TRANSP:TRANSPARENT
X-MICROSOFT-CDO-ALLDAYEVENT:TRUE
SUMMARY:2013 Bixby Volleyball Team Annual Flapjack Fundraiser
DESCRIPTION:The team will have the entire restaurant for this event\, and they have the potential to make this a significant fundraiser.  All they need is  help.  All proceeds will be used to fund the 2014 season including team camps\, team meals\, hospitality and equipment.
X-ALT-DESC;FMTTYPE=text/html:<span style="font-size:12px\;"><span style="font-family:arial\;"><span style="color: rgb(0\, 0\, 0)\; line-height: 15px\;">The team will have the entire restaurant for this event\, and they have the potential to make this a significant fundraiser.&nbsp\; All they need is&nbsp\; help.&nbsp\; All proceeds will be used to fund the 2014 season including team camps\, team meals\, hospitality and equipment. &nbsp\;</span></span></span>
LOCATION:Applebee's 10461 South Memorial Drive Tulsa\, OK 74133
UID:e.1611.1251
SEQUENCE:3
DTSTAMP:20260421T033851Z
URL:https://portal.bixbychamber.com/events/details/2013-bixby-volleyball-team-annual-flapjack-fundraiser-12-07-2013-1251
END:VEVENT

END:VCALENDAR
