BEGIN:VCALENDAR
VERSION:2.0
PRODID:-//ChamberMaster//Event Calendar 2.0//EN
METHOD:PUBLISH
X-PUBLISHED-TTL:P3D
REFRESH-INTERVAL:P3D
CALSCALE:GREGORIAN
BEGIN:VEVENT
DTSTART:20131012T130000Z
DTEND:20131012T170000Z
X-MICROSOFT-CDO-ALLDAYEVENT:FALSE
SUMMARY:2013 Bixby Spartan Dance Team Presents The Bixby Spartan 5K Run
DESCRIPTION:Benefits the 2013-2014 Bixby Spartan Dance Team\n\nHIGHLIGHTS\n\n        5 Fun Obstacles\n\n        Spectator Involvement\n\n        T-shirt Included With Early Registration Fee \n\n        T-shirt will be mailed to late registrants.
X-ALT-DESC;FMTTYPE=text/html:<strong><span style="font-family:wide latin\,serif\;"><span style="font-size:16.0pt\;">Benefits the 2013-2014 Bixby </span></span></strong><strong><span style="font-family:wide latin\,serif\;"><span style="font-size:14.0pt\;">Spartan</span></span></strong> <strong><span style="font-family:wide latin\,serif\;"><span style="font-size:18.0pt\;">Dance Team</span></span></strong><br />\n<span style="font-family:arial\;"><span style="font-size:14.0pt\;">HIGHLIGHTS</span><br />\n<span style="font-size:16.0pt\;">&middot\;&nbsp\;&nbsp\;&nbsp\;&nbsp\;&nbsp\;&nbsp\; 5 Fun Obstacles</span><br />\n<span style="font-size:16.0pt\;">&middot\;&nbsp\;&nbsp\;&nbsp\;&nbsp\;&nbsp\;&nbsp\; Spectator Involvement</span><br />\n<span style="font-size:16.0pt\;">&middot\;&nbsp\;&nbsp\;&nbsp\;&nbsp\;&nbsp\;&nbsp\; T-shirt Included With Early Registration Fee </span><br />\n<span style="font-size:16.0pt\;">&middot\;&nbsp\;&nbsp\;&nbsp\;&nbsp\;&nbsp\;&nbsp\; T-shirt will be mailed to late registrants.&nbsp\;</span></span><br />\n<br />\n&nbsp\;
LOCATION:Starting/Finish Line at Flag Pole 15 West Dawes Avenue\, Bixby\, OK 74008 Dawes and Armstrong Intersection
UID:e.1611.1235
SEQUENCE:3
DTSTAMP:20260421T064215Z
URL:https://portal.bixbychamber.com/events/details/2013-bixby-spartan-dance-team-presents-the-bixby-spartan-5k-run-10-12-2013-1235
END:VEVENT

END:VCALENDAR
