BEGIN:VCALENDAR
VERSION:2.0
PRODID:-//ChamberMaster//Event Calendar 2.0//EN
METHOD:PUBLISH
X-PUBLISHED-TTL:P3D
REFRESH-INTERVAL:P3D
CALSCALE:GREGORIAN
BEGIN:VEVENT
DTSTART;VALUE=DATE:20131026
DTEND;VALUE=DATE:20131027
TRANSP:TRANSPARENT
X-MICROSOFT-CDO-ALLDAYEVENT:TRUE
SUMMARY:2013 Bixby River Rodeo
DESCRIPTION:One day open rodeo event in Bixby on October 26th.\n\nThere will be vendor space available as well as BBQ for the crowd to enjoy.\n\nWe will have all the rodeo basics\, bull riding\, barrel racing\, team roping\, calf roping\, as well as muttin bustin' for the kids!
X-ALT-DESC;FMTTYPE=text/html:<span style="font-family:times new roman\,serif\;"><span style="font-size:12.0pt\;">One day open rodeo event in Bixby on October 26th.</span></span><br />\n<span style="font-family:times new roman\,serif\;"><span style="font-size:12.0pt\;">There will be vendor space available as well as BBQ for the crowd to enjoy.</span></span><br />\n<span style="font-family:times new roman\,serif\;"><span style="font-size:12.0pt\;">We will have all the rodeo basics\, bull riding\, barrel racing\, team roping\, calf roping\, as well as muttin bustin&#39\; for the kids!</span></span>
LOCATION:
UID:e.1611.701
SEQUENCE:3
DTSTAMP:20260421T063301Z
URL:https://portal.bixbychamber.com/events/details/2013-bixby-river-rodeo-10-26-2013-701
END:VEVENT

END:VCALENDAR
