BEGIN:VCALENDAR
VERSION:2.0
PRODID:-//ChamberMaster//Event Calendar 2.0//EN
METHOD:PUBLISH
X-PUBLISHED-TTL:P3D
REFRESH-INTERVAL:P3D
CALSCALE:GREGORIAN
BEGIN:VEVENT
DTSTART;VALUE=DATE:20130829
DTEND;VALUE=DATE:20130830
TRANSP:TRANSPARENT
X-MICROSOFT-CDO-ALLDAYEVENT:TRUE
SUMMARY:2013 Bixby Police Department Citizen Academy
DESCRIPTION:The Bixby Police Department will be hosting its fourth Citizen Police Academy. The academy will begin Thursday August 29th2013 and conclude November 14th2013. The academy will be held at the Bixby Police Department each Thursday night during this time frame.\n\nSome of the topics that will be covered during the academy are as follows: Patrol Tactics\, Domestic Disturbances\, Criminal Investigations and Narcotics Identification. Each student will also have the opportunity to shoot a firearm on the Bixby Police Firing Range.\nFor those whom may be interested in becoming familiar with a progressive police department or have a desire to be involved in a growing community applications for the 20113 academy are available at the Bixby Police Department\,\n\nlocated at 116 W. Needles St.Application deadline is August 12th2013. For any other information please contact 918 366 8294. An applicant must be 21 years of age or older\, possess a valid driver license\, pass a criminal background check\, not have a protective order against them\, and have no felony convictions
X-ALT-DESC;FMTTYPE=text/html:The Bixby Police Department will be hosting its fourth Citizen Police Academy. The academy will begin Thursday August 29th2013 and conclude November 14th2013. The academy will be held at the Bixby Police Department each Thursday night during this time frame.<br />\nSome of the topics that will be covered during the academy are as follows: Patrol Tactics\, Domestic Disturbances\, Criminal Investigations and Narcotics Identification. Each student will also have the opportunity to shoot a firearm on the Bixby Police Firing Range.\n<div>For those whom may be interested in becoming familiar with a progressive police department or have a desire to be involved in a growing community applications for the 20113 academy are available at the Bixby Police Department\,</div>\n\n<div>located at 116 W. Needles St.Application deadline is August 12th2013. For any other information please contact 918&#8208\;366&#8208\;8294. An applicant must be 21 years of age or older\, possess a valid driver license\, pass a criminal background check\, not have a protective order against them\, and have no felony convictions</div>\n
LOCATION:Bixby Police Department 116 W. Needles St. Bixby\, OK 74008
UID:e.1611.670
SEQUENCE:3
DTSTAMP:20260421T090924Z
URL:https://portal.bixbychamber.com/events/details/2013-bixby-police-department-citizen-academy-08-29-2013-670
END:VEVENT

END:VCALENDAR
