BEGIN:VCALENDAR
VERSION:2.0
PRODID:-//ChamberMaster//Event Calendar 2.0//EN
METHOD:PUBLISH
X-PUBLISHED-TTL:P3D
REFRESH-INTERVAL:P3D
CALSCALE:GREGORIAN
BEGIN:VEVENT
DTSTART:20131005T230000Z
DTEND:20131006T010000Z
X-MICROSOFT-CDO-ALLDAYEVENT:FALSE
SUMMARY:2013 Bixby Outreach Center Hosts An Evening Under the Stars
DESCRIPTION:A ROAD TO HOME\n\nBixby Outreach Center hosts capital campaign fundraiser\nBixby\, OK\, September 28\, 2013:  On October 5th\, 2013 at 6:00pm\, the Bixby Outreach Center will host An Evening Under the Stars\, the opening of their Capital Campaign.  The event\, sponsored by Jim Norton Toyota\, will be held at The Burns Arena XI and will feature the Wild Card Band\, a cash raffle\, silent and live auctions\, including a fur coat\, a guided fishing tour\, Kansas City Chiefs football tickets and much more. \n\nSince 2005 the Bixby Outreach Center has occupied two buildings in downtown Bixby.  Over the years the center has grown to serve more than 13\,000 individuals annually and has outgrown the present facilities.  In order to give a hand up to those in need\, rather than a hand out\, it takes everyone.  The Bixby Outreach Center is embarking on this capital campaign to better serve our communities. \n\n \n\n               ###\n\nThe Bixby Outreach Center (BOC) is a non-profit 501(c)3 that proudly serves Bixby\, Jenks\, Glenpool\, Kiefer\, Liberty\, Haskell and Mounds.  The BOC's mission is to provide basic needs assistance with compassion and dignity to local families.  The BOC provides basic needs of food and clothing\, as well as emergency funding\, referral assistance\, holiday assistance and much more.
X-ALT-DESC;FMTTYPE=text/html:<h1><span style="font-size:12px\;"><span style="font-family:arial\;">A ROAD TO HOME</span></span></h1>\n\n<h2><span style="font-size:12px\;"><span style="font-family:arial\;">Bixby Outreach Center hosts capital campaign fundraiser</span></span></h2>\n<span style="font-size:12px\;"><span style="font-family:arial\;"><em>Bixby\, OK\, September 28\, 2013:</em> &nbsp\;On October 5<sup>th</sup>\, 2013 at 6:00pm\, the Bixby Outreach Center will host <em>An Evening Under the Stars</em>\, the opening of their Capital Campaign.&nbsp\; The event\, sponsored by Jim Norton Toyota\, will be held at The Burns Arena XI and will feature the Wild Card Band\, a cash raffle\, silent and live auctions\, including a fur coat\, a guided fishing tour\, Kansas City Chiefs football tickets and much more.&nbsp\;<br />\nSince 2005 the Bixby Outreach Center has occupied two buildings in downtown Bixby.&nbsp\; Over the years the center has grown to serve more than 13\,000 individuals annually and has outgrown the present facilities.&nbsp\; In order to give a hand up to those in need\, rather than a hand out\, it takes everyone.&nbsp\; The Bixby Outreach Center is embarking on this capital campaign to better serve our communities.&nbsp\;<br />\n&nbsp\;<br />\n&nbsp\;&nbsp\;&nbsp\;&nbsp\;&nbsp\;&nbsp\;&nbsp\;&nbsp\;&nbsp\;&nbsp\;&nbsp\;&nbsp\;&nbsp\;&nbsp\; ###<br />\nThe Bixby Outreach Center (BOC) is a non-profit 501(c)3 that proudly serves Bixby\, Jenks\, Glenpool\, Kiefer\, Liberty\, Haskell and Mounds.&nbsp\; The BOC&rsquo\;s mission is to provide basic needs assistance with compassion and dignity to local families.&nbsp\; The BOC provides basic needs of food and clothing\, as well as emergency funding\, referral assistance\, holiday assistance and much more. &nbsp\; </span></span>&nbsp\;
LOCATION:The Burns Arena XI
UID:e.1611.702
SEQUENCE:3
DTSTAMP:20260421T064137Z
URL:https://portal.bixbychamber.com/events/details/2013-bixby-outreach-center-hosts-an-evening-under-the-stars-10-05-2013-702
END:VEVENT

END:VCALENDAR
