BEGIN:VCALENDAR
VERSION:2.0
PRODID:-//ChamberMaster//Event Calendar 2.0//EN
METHOD:PUBLISH
X-PUBLISHED-TTL:P3D
REFRESH-INTERVAL:P3D
CALSCALE:GREGORIAN
BEGIN:VEVENT
DTSTART:20130503T220000Z
DTEND:20130505T040000Z
X-MICROSOFT-CDO-ALLDAYEVENT:FALSE
SUMMARY:2013 BBQ 'n Blues Festival
DESCRIPTION:The Rotary Club of Bixby presents the 12th Annual Bixby BBQ 'n Blues Festival. Come out to Bixby's largest family event that will feature great food provided by BBQ Teams from across the nation and  live music. This year's festival will be featured on the cable TV show BBQ Pitmasters. Come out and support this local event.
X-ALT-DESC;FMTTYPE=text/html:<span style="color: rgb(102\, 102\, 102)\; font-family: Arial\, Helvetica\, sans-serif\;">The Rotary Club of Bixby presents the 12th Annual Bixby BBQ &#39\;n Blues Festival. Come out to Bixby&#39\;s largest family event that will feature great food provided by BBQ Teams from across the nation and &nbsp\;live music. This year&#39\;s festival will be featured on the cable TV show BBQ Pitmasters. Come out and support this local event.</span>
LOCATION:Washington Irving Memorial Park 137th & South Memorial Drive Bixby\, OK 7400
UID:e.1611.632
SEQUENCE:3
DTSTAMP:20260421T130515Z
URL:https://portal.bixbychamber.com/events/details/2013-bbq-n-blues-festival-05-03-2013-632
END:VEVENT

END:VCALENDAR
