BEGIN:VCALENDAR
VERSION:2.0
PRODID:-//ChamberMaster//Event Calendar 2.0//EN
METHOD:PUBLISH
X-PUBLISHED-TTL:P3D
REFRESH-INTERVAL:P3D
CALSCALE:GREGORIAN
BEGIN:VEVENT
DTSTART:20130815T103000Z
DTEND:20130816T000000Z
X-MICROSOFT-CDO-ALLDAYEVENT:FALSE
SUMMARY:2013 August After Hours
DESCRIPTION:Infuzion Ultra Lounge and Bistro
X-ALT-DESC;FMTTYPE=text/html:<div class="txtHeading" style="font-weight: bold\; font-size: 14px\; color: rgb(0\, 0\, 0)\; font-family: Arial\, Helvetica\, 'MS Sans Serif'\, sans-serif\;">\n	Infuzion Ultra Lounge and Bistro</div>\n<br />\n
LOCATION:9999 South Mingo Road Suite A Tulsa\, OK 74133
UID:e.1611.310
SEQUENCE:3
DTSTAMP:20260421T090350Z
URL:https://portal.bixbychamber.com/events/details/2013-august-after-hours-08-15-2013-310
END:VEVENT

END:VCALENDAR
