BEGIN:VCALENDAR
VERSION:2.0
PRODID:-//ChamberMaster//Event Calendar 2.0//EN
METHOD:PUBLISH
X-PUBLISHED-TTL:P3D
REFRESH-INTERVAL:P3D
CALSCALE:GREGORIAN
BEGIN:VEVENT
DTSTART:20130813T003000Z
DTEND:20130813T020000Z
X-MICROSOFT-CDO-ALLDAYEVENT:FALSE
SUMMARY:2013 Artist Showcase Night
DESCRIPTION:We invite you to join other area artists in sharing your talents at our monthly Artist Showcase Night.  Held the second Monday of every month\, from 7:30pm to 9:00pm\, artists and performers of all kinds are invited to participate in this exciting free evening highlighting the wealth and diversity of talent to be found here in our local communities.  Poets\, writers\, musicians\, actors\, singers\, dancers\, performance artists\, etc. ages 16 and up are invited to sign up in advance for a time slot by emailing heartsongok@gmail.com. Audience members are invited to attend these free evenings to enjoy the performances and meet the performers and to view the interesting visual art works on display at HeARTsong and meet some of our featured visual artists.   We will also have coffee\, bottled water\, soft drinks\, and special sweet treats created by local bakers available for purchase.  So\, come ready to enjoy a night of great performances\, inspiring art\, and yummy desserts!  These evenings truly are a celebration of local art in all its forms\, and we would love to have you be a part of it!
X-ALT-DESC;FMTTYPE=text/html:We invite you to join other area artists in sharing your talents at our monthly Artist Showcase Night. &nbsp\;Held the second Monday of every month\, from 7:30pm to 9:00pm\, artists and performers of all kinds are invited to participate in this exciting free evening highlighting the wealth and diversity of talent to be found here in our local communities.&nbsp\; Poets\, writers\, musicians\, actors\, singers\, dancers\, performance artists\, etc. ages 16 and up are invited to sign up in advance for a time slot by emailing heartsongok@gmail.com. Audience members are invited to attend these free evenings to enjoy the performances and meet the performers and to view the interesting visual art works on display at HeARTsong and meet some of our featured visual artists. &nbsp\; We will also have coffee\, bottled water\, soft drinks\, and special sweet treats created by local bakers available for purchase. &nbsp\;So\, come ready to enjoy a night of great performances\, inspiring art\, and yummy desserts! &nbsp\;These evenings truly are a celebration of local art in all its forms\, and we would love to have you be a part of it!
LOCATION:HeARTsong Creative Center\, 125 West Needles Avenue\, Bixby. Just off 151st and Memorial. Turn left onto Needles Avenue just past the Apple Barrel Cafe.
UID:e.1611.679
SEQUENCE:3
DTSTAMP:20260421T090717Z
URL:https://portal.bixbychamber.com/events/details/2013-artist-showcase-night-08-12-2013-679
END:VEVENT

END:VCALENDAR
