BEGIN:VCALENDAR
VERSION:2.0
PRODID:-//ChamberMaster//Event Calendar 2.0//EN
METHOD:PUBLISH
X-PUBLISHED-TTL:P3D
REFRESH-INTERVAL:P3D
CALSCALE:GREGORIAN
BEGIN:VEVENT
DTSTART:20130409T160000Z
DTEND:20130409T180000Z
X-MICROSOFT-CDO-ALLDAYEVENT:FALSE
SUMMARY:2013 April Discover Bixby
DESCRIPTION:Join the Mayor of Bixby as you travel through Bixby. Learn about upcoming developments as well as the current location of our school systems\, Kimberly Clark and some of our largest employers. The Bixby Historical Society will share the history of Bixby as as well as point out historical landmarks and buildings.\n\n\n\nGeared for New Partners to the Chamber and our community\, but open to anyone interested in finding out new and upcoming developments.
X-ALT-DESC;FMTTYPE=text/html:Join the Mayor of Bixby as you travel through Bixby. Learn about upcoming developments&nbsp\;as well as the current location of our school systems\, Kimberly Clark and some of our largest employers. The Bixby Historical Society will share the history of Bixby as as well as point out historical landmarks and buildings.<br />\n<br />\nGeared for New Partners to the Chamber and our community\, but open to anyone interested in finding out new and upcoming developments.&nbsp\;
LOCATION:
UID:e.1611.262
SEQUENCE:3
DTSTAMP:20260421T141409Z
URL:https://portal.bixbychamber.com/events/details/2013-april-discover-bixby-04-09-2013-262
END:VEVENT

END:VCALENDAR
