BEGIN:VCALENDAR
VERSION:2.0
PRODID:-//ChamberMaster//Event Calendar 2.0//EN
METHOD:PUBLISH
X-PUBLISHED-TTL:P3D
REFRESH-INTERVAL:P3D
CALSCALE:GREGORIAN
BEGIN:VEVENT
DTSTART:20130405T124500Z
DTEND:20130405T140000Z
X-MICROSOFT-CDO-ALLDAYEVENT:FALSE
SUMMARY:2013 April Coffee & Commerce
DESCRIPTION:
X-ALT-DESC;FMTTYPE=text/html:
LOCATION:Bixby Metro Chamber Board Room
UID:e.1611.332
SEQUENCE:3
DTSTAMP:20260421T140723Z
URL:https://portal.bixbychamber.com/events/details/2013-april-coffee-commerce-04-05-2013-332
END:VEVENT

END:VCALENDAR
