BEGIN:VCALENDAR
VERSION:2.0
PRODID:-//ChamberMaster//Event Calendar 2.0//EN
METHOD:PUBLISH
X-PUBLISHED-TTL:P3D
REFRESH-INTERVAL:P3D
CALSCALE:GREGORIAN
BEGIN:VEVENT
DTSTART:20130705T230000Z
DTEND:20130706T040000Z
X-MICROSOFT-CDO-ALLDAYEVENT:FALSE
SUMMARY:2013 An Intimate Evening with Bill Champlin featuring Grady Nichols
DESCRIPTION:An Intimate Evening with Bill Champlin\, formerly of Chicago\n\n-featuring Grady Nichols\n\nTwo shows- 6:00 PM and 0:00 PM\n\n\n\nVIP Tables-Reserved Seating-General Admission-Dining Available\n\n\n\nTickets: infuzionjulyconcert.eventbrite.com\n\n\n\nThe first 50 people to each concert showing will receive a cubic zirconia from Moody's Jewelry. One of them will be a real diamond!
X-ALT-DESC;FMTTYPE=text/html:An Intimate Evening with Bill Champlin\, formerly of Chicago<br />\n-featuring Grady Nichols<br />\nTwo shows- 6:00 PM and 0:00 PM<br />\n<br />\nVIP Tables-Reserved Seating-General Admission-Dining Available<br />\n<br />\nTickets: infuzionjulyconcert.eventbrite.com<br />\n<br />\nThe first 50 people to each concert showing will receive a cubic zirconia&nbsp\;from Moody&#39\;s Jewelry. One of them will be a real diamond!
LOCATION:Infuzion Ultra Lounge and Bistro 9999 South Mingo Road Tulsa\, OK 74133
UID:e.1611.656
SEQUENCE:3
DTSTAMP:20260421T103231Z
URL:https://portal.bixbychamber.com/events/details/2013-an-intimate-evening-with-bill-champlin-featuring-grady-nichols-07-05-2013-656
END:VEVENT

END:VCALENDAR
