BEGIN:VCALENDAR
VERSION:2.0
PRODID:-//ChamberMaster//Event Calendar 2.0//EN
METHOD:PUBLISH
X-PUBLISHED-TTL:P3D
REFRESH-INTERVAL:P3D
CALSCALE:GREGORIAN
BEGIN:VEVENT
DTSTART:20131102T140000Z
DTEND:20131102T190000Z
X-MICROSOFT-CDO-ALLDAYEVENT:FALSE
SUMMARY:2013 All Things Crafty Arts and Crafts Fair
DESCRIPTION:Hosting over 70 vendors from all over Oklahoma\, offering handmade crafts\, Christmas and other home decor\, glass art\, weight loss programs\, jewelery\, children's accessories\, maxi skirts\, vintage items\, kitchen accessories\,skin products\, baby items\, and many other things. Concessions will be available.
X-ALT-DESC;FMTTYPE=text/html:Hosting over 70 vendors from all over Oklahoma\, offering handmade crafts\, Christmas and other home decor\, glass art\, weight loss programs\, jewelery\, children&#39\;s accessories\, maxi skirts\, vintage items\, kitchen accessories\,skin products\, baby items\, and many other things. Concessions will be available.
LOCATION:Case Community Center 1050 W. Wekiwa Rd Sand Springs\, OK 74063
UID:e.1611.694
SEQUENCE:3
DTSTAMP:20260421T050720Z
URL:https://portal.bixbychamber.com/events/details/2013-all-things-crafty-arts-and-crafts-fair-11-02-2013-694
END:VEVENT

END:VCALENDAR
