BEGIN:VCALENDAR
VERSION:2.0
PRODID:-//ChamberMaster//Event Calendar 2.0//EN
METHOD:PUBLISH
X-PUBLISHED-TTL:P3D
REFRESH-INTERVAL:P3D
CALSCALE:GREGORIAN
BEGIN:VEVENT
DTSTART:20130214T223000Z
DTEND:20130215T003000Z
X-MICROSOFT-CDO-ALLDAYEVENT:FALSE
SUMMARY:2013 Adjust Chiropractic - Ribbon Cutting
DESCRIPTION:
X-ALT-DESC;FMTTYPE=text/html:
LOCATION:Adjust Chiropractic 11045 S. Memorial Drive Tulsa\, OK 74133
UID:e.1611.342
SEQUENCE:3
DTSTAMP:20260421T165132Z
URL:https://portal.bixbychamber.com/events/details/2013-adjust-chiropractic-ribbon-cutting-02-14-2013-342
END:VEVENT

END:VCALENDAR
