BEGIN:VCALENDAR
VERSION:2.0
PRODID:-//ChamberMaster//Event Calendar 2.0//EN
METHOD:PUBLISH
X-PUBLISHED-TTL:P3D
REFRESH-INTERVAL:P3D
CALSCALE:GREGORIAN
BEGIN:VEVENT
DTSTART:20130914T160000Z
DTEND:20130914T230000Z
X-MICROSOFT-CDO-ALLDAYEVENT:FALSE
SUMMARY:2013 A Day of Worship
DESCRIPTION:Fun filled day of live worship music from several churches. Lazer Tag! Children?s play area with games\, inflatable?s\, face-painting. Live radio broadcasts with KXOJ 100.9. Don't miss the local vendors\, awesome food and GREAT prizes! Load up the family\, grab some friends and come on out!
X-ALT-DESC;FMTTYPE=text/html:Fun filled day of live worship music from several churches. Lazer Tag! Children?s play area with games\, inflatable?s\, face-painting. Live radio broadcasts with KXOJ 100.9. Don&#39\;t miss the local vendors\, awesome food and GREAT prizes! Load up the family\, grab some friends and come on out!
LOCATION:Washington Irving Park\, 13700 S. Memorial\, Bixby\, OK 74008
UID:e.1611.659
SEQUENCE:3
DTSTAMP:20260421T074806Z
URL:https://portal.bixbychamber.com/events/details/2013-a-day-of-worship-09-14-2013-659
END:VEVENT

END:VCALENDAR
