BEGIN:VCALENDAR
VERSION:2.0
PRODID:-//ChamberMaster//Event Calendar 2.0//EN
METHOD:PUBLISH
X-PUBLISHED-TTL:P3D
REFRESH-INTERVAL:P3D
CALSCALE:GREGORIAN
BEGIN:VEVENT
DTSTART:20130513T233000Z
DTEND:20130514T013000Z
X-MICROSOFT-CDO-ALLDAYEVENT:FALSE
SUMMARY:2013 A Concert in the Park
DESCRIPTION:Bixby High School Band \n\nBack by popular demand\, this year's concert is free to the Bixby Community as a token of thanks for their continued support. Come and celebrate another great year with the band.
X-ALT-DESC;FMTTYPE=text/html:Bixby High School Band&nbsp\;<br />\nBack by popular demand\, this year&#39\;s concert is free to the Bixby Community as a token of thanks for their continued support. Come and celebrate another great year with the band.
LOCATION:Washington Irving Park
UID:e.1611.638
SEQUENCE:3
DTSTAMP:20260421T130459Z
URL:https://portal.bixbychamber.com/events/details/2013-a-concert-in-the-park-05-13-2013-638
END:VEVENT

END:VCALENDAR
