BEGIN:VCALENDAR
VERSION:2.0
PRODID:-//ChamberMaster//Event Calendar 2.0//EN
METHOD:PUBLISH
X-PUBLISHED-TTL:P3D
REFRESH-INTERVAL:P3D
CALSCALE:GREGORIAN
BEGIN:VEVENT
DTSTART:20130810T140000Z
DTEND:20130810T200000Z
X-MICROSOFT-CDO-ALLDAYEVENT:FALSE
SUMMARY:2013 8th Annual Hot Wheel show & swap meet
DESCRIPTION:Featuring Special Guest Mattel Employee. HCW Chris from Los Angeles California. Vendors from 9 states with 75 ? 80 tables of diecast vehicles including Hot Wheels\, Redlines (carded and loose)\, Employee cars\, 1995-2012 Treasure Hunt Sets\, Johnny Lightnings\, Greenlights\, M2 Machines\, Muscle Machines\, Matchbox\, and much more. Vendor?s only dinner Friday August 9th 7:00 p.m. special vendor cars with purchase ? Native American Jewelry\, 1930-2013 Baseball Cards\, Coke Memorabilia\, ? Concisions at a low cost -- Opens 10:00 a.m. 3:00 p.m. Hamburger\, hotdogs\, drinks and more. ? Rebuild and repaint custom contest ? 1st place awards given for People?s choice\, Mayors Choice\, Jay Chamber of Commerce Choice\, $50 cash prize for Jay Family Medical Clinic?s Emergency Vehicle Choice and Best of Show. ? First 50 kids\, 12 and under will get a free car free races with great prizes. ? Free kid races 9:30 a.m. - 11:00 a.m. with great prizes. ? Adult races are 1:30 p.m. - 3:00 p.m. with great prizes. ? Free vendor drawings and prizes including A 2010 Super Treasure Hunt Set\, Super Treasure Hunts\, Redlines and RLC Cars. ? Raffles all day for cars customized especially for this show.
X-ALT-DESC;FMTTYPE=text/html:Featuring Special Guest Mattel Employee. HCW Chris from Los Angeles California. Vendors from 9 states with 75 ? 80 tables of diecast vehicles including Hot Wheels\, Redlines (carded and loose)\, Employee cars\, 1995-2012 Treasure Hunt Sets\, Johnny Lightnings\, Greenlights\, M2 Machines\, Muscle Machines\, Matchbox\, and much more. Vendor?s only dinner Friday August 9th 7:00 p.m. special vendor cars with purchase ? Native American Jewelry\, 1930-2013 Baseball Cards\, Coke Memorabilia\, ? Concisions at a low cost -- Opens 10:00 a.m. 3:00 p.m. Hamburger\, hotdogs\, drinks and more. ? Rebuild and repaint custom contest ? 1st place awards given for People?s choice\, Mayors Choice\, Jay Chamber of Commerce Choice\, $50 cash prize for Jay Family Medical Clinic?s Emergency Vehicle Choice and Best of Show. ? First 50 kids\, 12 and under will get a free car free races with great prizes. ? Free kid races 9:30 a.m. - 11:00 a.m. with great prizes. ? Adult races are 1:30 p.m. - 3:00 p.m. with great prizes. ? Free vendor drawings and prizes including A 2010 Super Treasure Hunt Set\, Super Treasure Hunts\, Redlines and RLC Cars. ? Raffles all day for cars customized especially for this show.
LOCATION:Jay Community Center 429 S. 9th Street Jay\, OK
UID:e.1611.673
SEQUENCE:3
DTSTAMP:20260421T090925Z
URL:https://portal.bixbychamber.com/events/details/2013-8th-annual-hot-wheel-show-swap-meet-08-10-2013-673
END:VEVENT

END:VCALENDAR
