BEGIN:VCALENDAR
VERSION:2.0
PRODID:-//ChamberMaster//Event Calendar 2.0//EN
METHOD:PUBLISH
X-PUBLISHED-TTL:P3D
REFRESH-INTERVAL:P3D
CALSCALE:GREGORIAN
BEGIN:VEVENT
DTSTART;VALUE=DATE:20121122
DTEND;VALUE=DATE:20121123
TRANSP:TRANSPARENT
X-MICROSOFT-CDO-ALLDAYEVENT:TRUE
SUMMARY:2012 Thanksgiving Dinner
DESCRIPTION:Please join us for free\n\nThanksgiving Dinner\n\n\n\n(or until the food is gone)\n\n\n\nAll Are Invited To Attend\n\nSponsored by the Bixby Community Center
X-ALT-DESC;FMTTYPE=text/html:<span style="font-size:14px\;">Please join us for free<br />\nThanksgiving Dinner<br />\n<br />\n(or until the food is gone)<br />\n<br />\nAll Are Invited To Attend<br />\nSponsored by the Bixby Community Center&nbsp\;</span>
LOCATION:Crossroads Fellowship Church 100 W. Dawes Avenue
UID:e.1611.244
SEQUENCE:3
DTSTAMP:20260421T202547Z
URL:https://portal.bixbychamber.com/events/details/2012-thanksgiving-dinner-11-22-2012-244
END:VEVENT

END:VCALENDAR
