BEGIN:VCALENDAR
VERSION:2.0
PRODID:-//ChamberMaster//Event Calendar 2.0//EN
METHOD:PUBLISH
X-PUBLISHED-TTL:P3D
REFRESH-INTERVAL:P3D
CALSCALE:GREGORIAN
BEGIN:VEVENT
DTSTART:20121213T223000Z
DTEND:20121213T230000Z
X-MICROSOFT-CDO-ALLDAYEVENT:FALSE
SUMMARY:2012 Team Professional Services Ribbon Cutting
DESCRIPTION:
X-ALT-DESC;FMTTYPE=text/html:
LOCATION:7707 East 111th Suite 103 Street Tulsa 74133
UID:e.1611.229
SEQUENCE:3
DTSTAMP:20260421T193049Z
URL:https://portal.bixbychamber.com/events/details/2012-team-professional-services-ribbon-cutting-12-13-2012-229
END:VEVENT

END:VCALENDAR
