BEGIN:VCALENDAR
VERSION:2.0
PRODID:-//ChamberMaster//Event Calendar 2.0//EN
METHOD:PUBLISH
X-PUBLISHED-TTL:P3D
REFRESH-INTERVAL:P3D
CALSCALE:GREGORIAN
BEGIN:VEVENT
DTSTART:20121101T213000Z
DTEND:20121101T220000Z
X-MICROSOFT-CDO-ALLDAYEVENT:FALSE
SUMMARY:2012 Solar View / Ok Shutters - Show Room Ribbon Cutting
DESCRIPTION:
X-ALT-DESC;FMTTYPE=text/html:
LOCATION:110th & Memorial
UID:e.1611.225
SEQUENCE:3
DTSTAMP:20260421T204649Z
URL:https://portal.bixbychamber.com/events/details/2012-solar-view-ok-shutters-show-room-ribbon-cutting-11-01-2012-225
END:VEVENT

END:VCALENDAR
