BEGIN:VCALENDAR
VERSION:2.0
PRODID:-//ChamberMaster//Event Calendar 2.0//EN
METHOD:PUBLISH
X-PUBLISHED-TTL:P3D
REFRESH-INTERVAL:P3D
CALSCALE:GREGORIAN
BEGIN:VEVENT
DTSTART:20120920T223000Z
DTEND:20120921T003000Z
X-MICROSOFT-CDO-ALLDAYEVENT:FALSE
SUMMARY:2012 September After Hours
DESCRIPTION:
X-ALT-DESC;FMTTYPE=text/html:
LOCATION:
UID:e.1611.204
SEQUENCE:3
DTSTAMP:20260421T232121Z
URL:https://portal.bixbychamber.com/events/details/2012-september-after-hours-09-20-2012-204
END:VEVENT

END:VCALENDAR
