BEGIN:VCALENDAR
VERSION:2.0
PRODID:-//ChamberMaster//Event Calendar 2.0//EN
METHOD:PUBLISH
X-PUBLISHED-TTL:P3D
REFRESH-INTERVAL:P3D
CALSCALE:GREGORIAN
BEGIN:VEVENT
DTSTART:20121110T150000Z
DTEND:20121110T170000Z
X-MICROSOFT-CDO-ALLDAYEVENT:FALSE
SUMMARY:2012 Power of Purpose: Managing Career Transition Workshop
DESCRIPTION:November 10\, 2012\n\n9:00 AM-11:00 AM\n\nHoliday Inn & Suites\, 10020 E 81st Street\n\nTulsa\, Oklahoma OK\n\nNathan Mitchell\, founder of Clutch Consulting and Jim Whitt\, founder of Purpose Unlimited are teaming up to present Managing Career Transition in Tulsa\, Okla. on Saturday\, November 10th from 9:00 11:00 a.m\n\nThose who register for the Managing Career Transition program can expect to learn how to discover their Purpose in life\, how to identify their unique talents and strengths\, how to find a career that fits their Purpose\, talents and strengths\, how to design a resume that sells them to prospective employers and how to find meaning and fulfillment in their career and life.\n\nThe registration fee for the program is $20. All participants will receive a behavioral strengths assessment\, a copy of Nathan Mitchell's book\, Turn That Frown Upside Down: Discover Meaning & Fulfillment in the Workplace and a one-on-one career coaching session.\n\nTo register go to http://www.PowerOfPurposeInBusiness.com or call (918) 851-7246
X-ALT-DESC;FMTTYPE=text/html:<p style="margin: 0px 0px 15px\; padding: 0px\; border: 0px\; outline: 0px\; font-size: 14px\; vertical-align: baseline\; color: rgb(126\, 126\, 126)\; line-height: 16px\; font-family: 'Helvetica Neue'\, Helvetica\, Arial\, sans-serif\; ">November 10\, 2012<br />\n9:00 AM-11:00 AM<br />\nHoliday Inn &amp\; Suites\, 10020 E 81st Street<br />\nTulsa\, Oklahoma OK</p>\n\n<p style="margin: 0px 0px 15px\; padding: 0px\; border: 0px\; outline: 0px\; font-size: 14px\; vertical-align: baseline\; color: rgb(126\, 126\, 126)\; line-height: 16px\; font-family: 'Helvetica Neue'\, Helvetica\, Arial\, sans-serif\; ">Nathan Mitchell\, founder of Clutch Consulting and Jim Whitt\, founder of Purpose Unlimited are teaming up to present Managing Career Transition in Tulsa\, Okla. on Saturday\, November 10th from 9:00&ndash\;11:00 a.m</p>\n\n<p style="margin: 0px 0px 15px\; padding: 0px\; border: 0px\; outline: 0px\; font-size: 14px\; vertical-align: baseline\; color: rgb(126\, 126\, 126)\; line-height: 16px\; font-family: 'Helvetica Neue'\, Helvetica\, Arial\, sans-serif\; ">Those who register for the Managing Career Transition program can expect to learn how to discover their Purpose in life\, how to identify their unique talents and strengths\, how to find a career that fits their Purpose\, talents and strengths\, how to design a resume that sells them to prospective employers and how to find meaning and fulfillment in their career and life.</p>\n\n<p style="margin: 0px 0px 15px\; padding: 0px\; border: 0px\; outline: 0px\; font-size: 14px\; vertical-align: baseline\; color: rgb(126\, 126\, 126)\; line-height: 16px\; font-family: 'Helvetica Neue'\, Helvetica\, Arial\, sans-serif\; ">The registration fee for the program is $20. All participants will receive a behavioral strengths assessment\, a copy of Nathan Mitchell&rsquo\;s book\, Turn That Frown Upside Down: Discover Meaning &amp\; Fulfillment in the Workplace and a one-on-one career coaching session.</p>\n\n<p style="margin: 0px 0px 15px\; padding: 0px\; border: 0px\; outline: 0px\; font-size: 14px\; vertical-align: baseline\; color: rgb(126\, 126\, 126)\; line-height: 16px\; font-family: 'Helvetica Neue'\, Helvetica\, Arial\, sans-serif\; ">To register go to&nbsp\;<a href="http://www.powerofpurposeinbusiness.com/" style="margin: 0px\; padding: 0px\; border: 0px\; outline: 0px\; vertical-align: baseline\; background-color: transparent\; color: rgb(7\, 113\, 184)\; ">http://www.PowerOfPurposeInBusiness.com</a>&nbsp\;or call (918) 851-7246</p>\n
LOCATION:10020 E 81st Street\, Tulsa\, OK\,
UID:e.1611.233
SEQUENCE:3
DTSTAMP:20260421T202800Z
URL:https://portal.bixbychamber.com/events/details/2012-power-of-purpose-managing-career-transition-workshop-11-10-2012-233
END:VEVENT

END:VCALENDAR
