BEGIN:VCALENDAR
VERSION:2.0
PRODID:-//ChamberMaster//Event Calendar 2.0//EN
METHOD:PUBLISH
X-PUBLISHED-TTL:P3D
REFRESH-INTERVAL:P3D
CALSCALE:GREGORIAN
BEGIN:VEVENT
DTSTART:20121129T223000Z
DTEND:20121129T230000Z
X-MICROSOFT-CDO-ALLDAYEVENT:FALSE
SUMMARY:2012 OMC! - Oh My Coffee Ribbon Cutting
DESCRIPTION:
X-ALT-DESC;FMTTYPE=text/html:
LOCATION:13160 South Memorial Drive Bixby
UID:e.1611.227
SEQUENCE:3
DTSTAMP:20260421T202800Z
URL:https://portal.bixbychamber.com/events/details/2012-omc-oh-my-coffee-ribbon-cutting-11-29-2012-227
END:VEVENT

END:VCALENDAR
