BEGIN:VCALENDAR
VERSION:2.0
PRODID:-//ChamberMaster//Event Calendar 2.0//EN
METHOD:PUBLISH
X-PUBLISHED-TTL:P3D
REFRESH-INTERVAL:P3D
CALSCALE:GREGORIAN
BEGIN:VEVENT
DTSTART:20121025T223000Z
DTEND:20121026T000000Z
X-MICROSOFT-CDO-ALLDAYEVENT:FALSE
SUMMARY:2012 October After Hours
DESCRIPTION:
X-ALT-DESC;FMTTYPE=text/html:
LOCATION:
UID:e.1611.213
SEQUENCE:3
DTSTAMP:20260421T215026Z
URL:https://portal.bixbychamber.com/events/details/2012-october-after-hours-10-25-2012-213
END:VEVENT

END:VCALENDAR
