BEGIN:VCALENDAR
VERSION:2.0
PRODID:-//ChamberMaster//Event Calendar 2.0//EN
METHOD:PUBLISH
X-PUBLISHED-TTL:P3D
REFRESH-INTERVAL:P3D
CALSCALE:GREGORIAN
BEGIN:VEVENT
DTSTART:20121113T134500Z
DTEND:20121113T150000Z
X-MICROSOFT-CDO-ALLDAYEVENT:FALSE
SUMMARY:2012 November Breakfast with the Board
DESCRIPTION:The Bixby Metro Chamber Board of Directors is comprised of some of the most influential individuals in Bixby and the South Tulsa area. Enjoy breakfast while visiting and hearing from your BMC Board.\n\n	Learn about the future of the Chamber while building relationships with other Partners and our Board. A Director will be seated at each table and the Chairman of the Board will take questions from the group.
X-ALT-DESC;FMTTYPE=text/html:<p>\n	The Bixby Metro Chamber Board of Directors is comprised of some of the most influential individuals in Bixby and the South Tulsa area. Enjoy breakfast while visiting and hearing from your BMC Board.</p>\n<p>\n	Learn about the future of the Chamber while building relationships with other Partners and our Board. A Director will be seated at each table and the Chairman of the Board will take questions from the group.</p>\n
LOCATION:Hilton Garden Inn - Tulsa South 8202 South 100th East Avenue Tulsa\, OK 74133
UID:e.1611.223
SEQUENCE:3
DTSTAMP:20260421T202648Z
URL:https://portal.bixbychamber.com/events/details/2012-november-breakfast-with-the-board-11-13-2012-223
END:VEVENT

END:VCALENDAR
