BEGIN:VCALENDAR
VERSION:2.0
PRODID:-//ChamberMaster//Event Calendar 2.0//EN
METHOD:PUBLISH
X-PUBLISHED-TTL:P3D
REFRESH-INTERVAL:P3D
CALSCALE:GREGORIAN
BEGIN:VEVENT
DTSTART:20121114T153000Z
DTEND:20121114T170000Z
X-MICROSOFT-CDO-ALLDAYEVENT:FALSE
SUMMARY:2012 McDonalds Ribbon Cutting
DESCRIPTION:
X-ALT-DESC;FMTTYPE=text/html:
LOCATION:12101 South Memorial Bixby\, Ok 74008
UID:e.1611.243
SEQUENCE:3
DTSTAMP:20260421T202649Z
URL:https://portal.bixbychamber.com/events/details/2012-mcdonalds-ribbon-cutting-11-14-2012-243
END:VEVENT

END:VCALENDAR
