BEGIN:VCALENDAR
VERSION:2.0
PRODID:-//ChamberMaster//Event Calendar 2.0//EN
METHOD:PUBLISH
X-PUBLISHED-TTL:P3D
REFRESH-INTERVAL:P3D
CALSCALE:GREGORIAN
BEGIN:VEVENT
DTSTART:20121206T223000Z
DTEND:20121206T230000Z
X-MICROSOFT-CDO-ALLDAYEVENT:FALSE
SUMMARY:2012 Legends Ribbon Cutting
DESCRIPTION:
X-ALT-DESC;FMTTYPE=text/html:
LOCATION:10846 S. Memorial Tulsa 74133
UID:e.1611.298
SEQUENCE:3
DTSTAMP:20260421T192947Z
URL:https://portal.bixbychamber.com/events/details/2012-legends-ribbon-cutting-12-06-2012-298
END:VEVENT

END:VCALENDAR
