BEGIN:VCALENDAR
VERSION:2.0
PRODID:-//ChamberMaster//Event Calendar 2.0//EN
METHOD:PUBLISH
X-PUBLISHED-TTL:P3D
REFRESH-INTERVAL:P3D
CALSCALE:GREGORIAN
BEGIN:VEVENT
DTSTART;VALUE=DATE:20121208
DTEND;VALUE=DATE:20121209
TRANSP:TRANSPARENT
X-MICROSOFT-CDO-ALLDAYEVENT:TRUE
SUMMARY:2012 Legends Bicycles Open House
DESCRIPTION:I want to invite you to Legends Bicycles and Accessories open house Friday from 5 pm to 8 pm and Saturday from 11 am to 3 pm. We will be giving away over $1000 in prizes and offering 10% off all accessories.\n\n \n\nIf you are looking for a bicycle shop for service of any make/model or looking for a new bike for Christmas\, for your self or looking for accessories\, we want to be your bicycle store. \n\n \n\nPlease come see us at 111th and Memorial (North end of the Walmart parking lot)\n\n \n\nWe are open 7 days a week till Christmas\n\nBuster
X-ALT-DESC;FMTTYPE=text/html:<span style="background:white\;"><span style="color:#222222\;"><span style="font-family:arial\,sans-serif\;"><span style="font-size:10.0pt\;">I want to invite you to Legends Bicycles and Accessories open house Friday from 5 pm to 8 pm and Saturday from 11 am to 3 pm. We will be giving away over $1000 in prizes and offering 10% off all accessories.</span></span></span></span><br />\n&nbsp\;<br />\n<span style="color:#222222\;"><span style="font-family:arial\,sans-serif\;"><span style="font-size:10.0pt\;">If you are looking for a bicycle shop for service of any make/model or looking for a new bike for Christmas\, for your self or looking for accessories\, we want to be your bicycle store.&nbsp\;</span></span></span><br />\n&nbsp\;<br />\n<span style="color:#222222\;"><span style="font-family:arial\,sans-serif\;"><span style="font-size:10.0pt\;">Please come see us at 111th and Memorial (North end of the Walmart parking lot)</span></span></span><br />\n&nbsp\;<br />\n<span style="color:#222222\;"><span style="font-family:arial\,sans-serif\;"><span style="font-size:10.0pt\;">We are open 7 days a week till Christmas</span></span></span><br />\n<span style="color:#222222\;"><span style="font-family:arial\,sans-serif\;"><span style="font-size:10.0pt\;">Buster</span></span></span>
LOCATION:10846 South Memorial Suite 103 Tulsa\, OK 74133
UID:e.1611.257
SEQUENCE:3
DTSTAMP:20260421T192940Z
URL:https://portal.bixbychamber.com/events/details/2012-legends-bicycles-open-house-12-08-2012-257
END:VEVENT

END:VCALENDAR
