BEGIN:VCALENDAR
VERSION:2.0
PRODID:-//ChamberMaster//Event Calendar 2.0//EN
METHOD:PUBLISH
X-PUBLISHED-TTL:P3D
REFRESH-INTERVAL:P3D
CALSCALE:GREGORIAN
BEGIN:VEVENT
DTSTART:20120621T163000Z
DTEND:20120621T180000Z
X-MICROSOFT-CDO-ALLDAYEVENT:FALSE
SUMMARY:2012 June Legislative Luncheon
DESCRIPTION:
X-ALT-DESC;FMTTYPE=text/html:
LOCATION:SpiritBank Event Center
UID:e.1611.187
SEQUENCE:3
DTSTAMP:20260422T024529Z
URL:https://portal.bixbychamber.com/events/details/2012-june-legislative-luncheon-06-21-2012-187
END:VEVENT

END:VCALENDAR
