BEGIN:VCALENDAR
VERSION:2.0
PRODID:-//ChamberMaster//Event Calendar 2.0//EN
METHOD:PUBLISH
X-PUBLISHED-TTL:P3D
REFRESH-INTERVAL:P3D
CALSCALE:GREGORIAN
BEGIN:VEVENT
DTSTART:20120718T124500Z
DTEND:20120718T140000Z
X-MICROSOFT-CDO-ALLDAYEVENT:FALSE
SUMMARY:2012 July Breakfast with the Board
DESCRIPTION:
X-ALT-DESC;FMTTYPE=text/html:
LOCATION:
UID:e.1611.182
SEQUENCE:3
DTSTAMP:20260422T013707Z
URL:https://portal.bixbychamber.com/events/details/2012-july-breakfast-with-the-board-07-18-2012-182
END:VEVENT

END:VCALENDAR
