BEGIN:VCALENDAR
VERSION:2.0
PRODID:-//ChamberMaster//Event Calendar 2.0//EN
METHOD:PUBLISH
X-PUBLISHED-TTL:P3D
REFRESH-INTERVAL:P3D
CALSCALE:GREGORIAN
BEGIN:VEVENT
DTSTART:20120726T223000Z
DTEND:20120727T003000Z
X-MICROSOFT-CDO-ALLDAYEVENT:FALSE
SUMMARY:2012 July After Hours
DESCRIPTION:
X-ALT-DESC;FMTTYPE=text/html:
LOCATION:
UID:e.1611.194
SEQUENCE:3
DTSTAMP:20260422T013135Z
URL:https://portal.bixbychamber.com/events/details/2012-july-after-hours-07-26-2012-194
END:VEVENT

END:VCALENDAR
