BEGIN:VCALENDAR
VERSION:2.0
PRODID:-//ChamberMaster//Event Calendar 2.0//EN
METHOD:PUBLISH
X-PUBLISHED-TTL:P3D
REFRESH-INTERVAL:P3D
CALSCALE:GREGORIAN
BEGIN:VEVENT
DTSTART:20120104T173000Z
DTEND:20120104T190000Z
X-MICROSOFT-CDO-ALLDAYEVENT:FALSE
SUMMARY:2012 January Luncheon
DESCRIPTION:
X-ALT-DESC;FMTTYPE=text/html:
LOCATION:SpiritBank Event Center
UID:e.1611.162
SEQUENCE:3
DTSTAMP:20260422T085641Z
URL:https://portal.bixbychamber.com/events/details/2012-january-luncheon-01-04-2012-162
END:VEVENT

END:VCALENDAR
