BEGIN:VCALENDAR
VERSION:2.0
PRODID:-//ChamberMaster//Event Calendar 2.0//EN
METHOD:PUBLISH
X-PUBLISHED-TTL:P3D
REFRESH-INTERVAL:P3D
CALSCALE:GREGORIAN
BEGIN:VEVENT
DTSTART:20120120T173000Z
DTEND:20120120T190000Z
X-MICROSOFT-CDO-ALLDAYEVENT:FALSE
SUMMARY:2012 January Learn Over Lunch
DESCRIPTION:
X-ALT-DESC;FMTTYPE=text/html:
LOCATION:
UID:e.1611.163
SEQUENCE:3
DTSTAMP:20260422T085712Z
URL:https://portal.bixbychamber.com/events/details/2012-january-learn-over-lunch-01-20-2012-163
END:VEVENT

END:VCALENDAR
