BEGIN:VCALENDAR
VERSION:2.0
PRODID:-//ChamberMaster//Event Calendar 2.0//EN
METHOD:PUBLISH
X-PUBLISHED-TTL:P3D
REFRESH-INTERVAL:P3D
CALSCALE:GREGORIAN
BEGIN:VEVENT
DTSTART:20121115T223000Z
DTEND:20121115T230000Z
X-MICROSOFT-CDO-ALLDAYEVENT:FALSE
SUMMARY:2012 Edward Jones Ribbon Cutting
DESCRIPTION:
X-ALT-DESC;FMTTYPE=text/html:
LOCATION:10462 S Memorial suite 104
UID:e.1611.226
SEQUENCE:3
DTSTAMP:20260421T203131Z
URL:https://portal.bixbychamber.com/events/details/2012-edward-jones-ribbon-cutting-11-15-2012-226
END:VEVENT

END:VCALENDAR
