BEGIN:VCALENDAR
VERSION:2.0
PRODID:-//ChamberMaster//Event Calendar 2.0//EN
METHOD:PUBLISH
X-PUBLISHED-TTL:P3D
REFRESH-INTERVAL:P3D
CALSCALE:GREGORIAN
BEGIN:VEVENT
DTSTART:20121214T173000Z
DTEND:20121214T190000Z
X-MICROSOFT-CDO-ALLDAYEVENT:FALSE
SUMMARY:2012 December Learn Over Lunch
DESCRIPTION:Learn Over Lunch educational program\, partners will mentor other partners on important business skills including personal and professional development\, educational growth and the latest trends and technology. Join us for lunch and take some time out of your day to learn from an expert.\n\n	\n\n	Speaker: Luxa Enterprises
X-ALT-DESC;FMTTYPE=text/html:<p>\n	<em><em>Learn Over Lunch educational program\, partners will mentor other partners on important business skills including personal and professional development\, educational growth and the latest trends and technology. Join us for lunch and take some time out of your day to learn from an expert</em>.<br />\n	<br />\n	Speaker: Luxa Enterprises</em></p>\n
LOCATION:Bixby Metro Chamber of Commerce Conference Room 10441 South Regal Boulevard\, Suite 104
UID:e.1611.231
SEQUENCE:3
DTSTAMP:20260421T192213Z
URL:https://portal.bixbychamber.com/events/details/2012-december-learn-over-lunch-12-14-2012-231
END:VEVENT

END:VCALENDAR
