BEGIN:VCALENDAR
VERSION:2.0
PRODID:-//ChamberMaster//Event Calendar 2.0//EN
METHOD:PUBLISH
X-PUBLISHED-TTL:P3D
REFRESH-INTERVAL:P3D
CALSCALE:GREGORIAN
BEGIN:VEVENT
DTSTART:20121213T233000Z
DTEND:20121214T010000Z
X-MICROSOFT-CDO-ALLDAYEVENT:FALSE
SUMMARY:2012 December After Hours
DESCRIPTION:
X-ALT-DESC;FMTTYPE=text/html:<p>\n	&nbsp\;</p>\n<div>\n	<div>\n		<br />\n		&nbsp\;</div>\n</div>\n
LOCATION:BMW of Tulsa 9702 South Memorial Drive Tulsa\, OK 74133
UID:e.1611.230
SEQUENCE:3
DTSTAMP:20260421T202511Z
URL:https://portal.bixbychamber.com/events/details/2012-december-after-hours-12-13-2012-230
END:VEVENT

END:VCALENDAR
