BEGIN:VCALENDAR
VERSION:2.0
PRODID:-//ChamberMaster//Event Calendar 2.0//EN
METHOD:PUBLISH
X-PUBLISHED-TTL:P3D
REFRESH-INTERVAL:P3D
CALSCALE:GREGORIAN
BEGIN:VEVENT
DTSTART:20121215T160000Z
DTEND:20121215T210000Z
X-MICROSOFT-CDO-ALLDAYEVENT:FALSE
SUMMARY:2012 Coffee & Crafts
DESCRIPTION:Oh My Coffee Presents "Coffee & Crafts" Holiday Craft Fair\n\n\n\nFinish your Holiday shopping while sipping a delicious cup of coffee or specialty drink!\n\n\n\nFor questions or info please call Christie (918) 508-9523
X-ALT-DESC;FMTTYPE=text/html:Oh My Coffee Presents &quot\;Coffee &amp\; Crafts&quot\; Holiday Craft Fair<br />\n<br />\nFinish your Holiday shopping while sipping a delicious cup of coffee or specialty drink!<br />\n<br />\nFor questions or info please call Christie (918) 508-9523
LOCATION:OMC is located in Bixby at 131st & Memorial
UID:e.1611.333
SEQUENCE:3
DTSTAMP:20260421T202545Z
URL:https://portal.bixbychamber.com/events/details/2012-coffee-crafts-12-15-2012-333
END:VEVENT

END:VCALENDAR
