BEGIN:VCALENDAR
VERSION:2.0
PRODID:-//ChamberMaster//Event Calendar 2.0//EN
METHOD:PUBLISH
X-PUBLISHED-TTL:P3D
REFRESH-INTERVAL:P3D
CALSCALE:GREGORIAN
BEGIN:VEVENT
DTSTART;VALUE=DATE:20121116
DTEND;VALUE=DATE:20121118
TRANSP:TRANSPARENT
X-MICROSOFT-CDO-ALLDAYEVENT:TRUE
SUMMARY:2012 Bixby Landfill Days
DESCRIPTION:
X-ALT-DESC;FMTTYPE=text/html:
LOCATION:Quarry Landfill 13740 East 46th St N\, Tulsa
UID:e.1611.246
SEQUENCE:3
DTSTAMP:20260421T202515Z
URL:https://portal.bixbychamber.com/events/details/2012-bixby-landfill-days-11-16-2012-246
END:VEVENT

END:VCALENDAR
