BEGIN:VCALENDAR
VERSION:2.0
PRODID:-//ChamberMaster//Event Calendar 2.0//EN
METHOD:PUBLISH
X-PUBLISHED-TTL:P3D
REFRESH-INTERVAL:P3D
CALSCALE:GREGORIAN
BEGIN:VEVENT
DTSTART;VALUE=DATE:20121129
DTEND;VALUE=DATE:20121203
TRANSP:TRANSPARENT
X-MICROSOFT-CDO-ALLDAYEVENT:TRUE
SUMMARY:2012 Bethlehem Walk
DESCRIPTION:Bethlehem Walk\n\n\n	\n		\n			STEP BACK INTO TIME and WITNESS the CHRISTMAS STORY\n\n			Bethlehem Walk is a free 45-minute guided outdoor walk through Tulsa's most\n\n			exciting realistic Nativity!  A cast of 150-200 members of Christview Christian Church are in authentic\n\n			costumes and sets  Live camels\, donkeys and sheep add to the greatest story ever told\n			 \n\n			  This story unfolds in a beautiful authentic outdoor setting complete with a\n\n			lighted path for safety\n\n			Visitors participate in the walk to the nativity! Each guest becomes a member\n\n			of a family that travels to Bethlehem to be counted in the census and pay\n\n			their taxes. Guests encounter Roman soldiers\, beggars\, lepers\, and even a\n\n			host of heavenly angels along the road to Bethlehem. Each person has their\n\n			'tax' papers stamped before being allowed into the city\, which is alive with\n\n			activity. Shopkeepers that have wares to sample and dancers in the streets\n\n			will welcome each guest. Hear of the birth of a precious child born in a\n\n			manger as foretold by the angels. Learn the child's life story.\n\n			Enjoy exciting and entertaining musical pre-show and free refreshments after your "walk".\n\n			We are pleased to again present Bethlehem Walk FREE for the 14th year to the Tulsa and outlying communities!\n\n			PERFORMANCES!\n\n			NOVEMBER-29th & NOVEMBER-30th   6:30 to 8:30 P.M.\n\n			DECEMBER-1st & DECEMBER-2nd   5:30 to 8:30 P.M.\n\n			PRESENTED AT:\n\n			CHRISTVIEW CHRISTIAN CHURCH\n\n			2525 SOUTH GARNETT\n\n			TULSA\, OK 74129-5111\n\n			Large groups welcome! Bring scout troops\, youth groups\, senior citizen\n\n			groups\, any civic group! A limited number of golf carts available for\n\n			handicapped/disabled please advise and make sure reservation operator knows\n\n			if you need to reserve one.\n\n			Best of all\, Bethlehem Walk is a FREE gift to one and all. For scheduling\n\n			purposes\, it is requested that reservations be made. On Thursday evening\n\n			guides will be available to interpret in Spanish. Please let the operator\n\n			know if you would like to be in one of these groups. Please call the\n\n			Reservation Hotline 918-232-3587. Nov.12th Operators on duty from 6:00   9:00\n\n			p.m. nightly\, or leave a text message 24 hours a day and an operator will be\n\n			back in touch to schedule your time. You can also go to our website www.christview.org and click the Special\n\n			Events link. Find us Facebook/christviewchristian.\n\n			You will want to make this an annual tradition for your family and friends!\n\n			CALL NOW TO RESERVE YOUR TIME FOR A WONDERFUL FREE HOLIDAY EVENING! DRESS ACCORDING TO WEATHER
X-ALT-DESC;FMTTYPE=text/html:<h3 id="event_title-273" style="margin: 0px 0px 5px\; padding: 0px\; border: 0px\; outline: 0px\; font-size: 1.2em\; vertical-align: baseline\; color: rgb(0\, 0\, 0)\; font-family: 'Helvetica Neue'\, Helvetica\, Arial\, sans-serif\; ">Bethlehem Walk</h3>\n\n<table border="0" cellpadding="0" class="aligncenter" style="margin: 0px auto\; padding: 0px\; border: 0px\; outline: 0px\; font-size: 14px\; vertical-align: baseline\; border-collapse: collapse\; border-spacing: 0px\; clear: both\; display: block\; color: rgb(0\, 0\, 0)\; font-family: 'Helvetica Neue'\, Helvetica\, Arial\, sans-serif\; " width="100%">\n	<tbody style="margin: 0px\; padding: 0px\; border: 0px\; outline: 0px\; vertical-align: baseline\; background-color: transparent\; ">\n		<tr style="margin: 0px\; padding: 0px\; border: 0px\; outline: 0px\; vertical-align: baseline\; background-color: transparent\; ">\n			<td style="margin: 0px\; padding: 0px\; border: 0px\; outline: 0px\; vertical-align: baseline\; background-color: transparent\; ">STEP BACK INTO TIME and WITNESS the CHRISTMAS STORY<br />\n			Bethlehem Walk is a free 45-minute guided outdoor walk through Tulsa&rsquo\;s most<br />\n			exciting realistic Nativity!&bull\; A cast of 150-200 members of Christview Christian Church are in authentic<br />\n			costumes and sets&bull\; Live camels\, donkeys and sheep add to the greatest story ever told\n			<p style="margin: 0px 0px 15px\; padding: 0px\; border: 0px\; outline: 0px\; vertical-align: baseline\; background-color: transparent\; color: rgb(126\, 126\, 126)\; line-height: 16px\; ">&nbsp\;</p>\n\n			<p style="margin: 0px 0px 15px\; padding: 0px\; border: 0px\; outline: 0px\; vertical-align: baseline\; background-color: transparent\; color: rgb(126\, 126\, 126)\; line-height: 16px\; ">&bull\; This story unfolds in a beautiful authentic outdoor setting complete with a<br />\n			lighted path for safety<br />\n			Visitors participate in the walk to the nativity! Each guest becomes a member<br />\n			of a family that travels to Bethlehem to be counted in the census and pay<br />\n			their taxes. Guests encounter Roman soldiers\, beggars\, lepers\, and even a<br />\n			host of heavenly angels along the road to Bethlehem. Each person has their<br />\n			&lsquo\;tax&rsquo\; papers stamped before being allowed into the city\, which is alive with<br />\n			activity. Shopkeepers that have wares to sample and dancers in the streets<br />\n			will welcome each guest. Hear of the birth of a precious child born in a<br />\n			manger as foretold by the angels. Learn the child&rsquo\;s life story.</p>\n\n			<p style="margin: 0px 0px 15px\; padding: 0px\; border: 0px\; outline: 0px\; vertical-align: baseline\; background-color: transparent\; color: rgb(126\, 126\, 126)\; line-height: 16px\; ">Enjoy exciting and entertaining musical pre-show and free refreshments after your &ldquo\;walk&rdquo\;.<br />\n			We are pleased to again present Bethlehem Walk FREE for the 14th year to the Tulsa and outlying communities!</p>\n\n			<p style="margin: 0px 0px 15px\; padding: 0px\; border: 0px\; outline: 0px\; vertical-align: baseline\; background-color: transparent\; color: rgb(126\, 126\, 126)\; line-height: 16px\; ">PERFORMANCES!<br />\n			NOVEMBER-29th &amp\; NOVEMBER-30th &ndash\; 6:30 to 8:30 P.M.<br />\n			DECEMBER-1st &amp\; DECEMBER-2nd &ndash\; 5:30 to 8:30 P.M.</p>\n\n			<p style="margin: 0px 0px 15px\; padding: 0px\; border: 0px\; outline: 0px\; vertical-align: baseline\; background-color: transparent\; color: rgb(126\, 126\, 126)\; line-height: 16px\; ">PRESENTED AT:<br />\n			CHRISTVIEW CHRISTIAN CHURCH<br />\n			2525 SOUTH GARNETT<br />\n			TULSA\, OK 74129-5111</p>\n\n			<p style="margin: 0px 0px 15px\; padding: 0px\; border: 0px\; outline: 0px\; vertical-align: baseline\; background-color: transparent\; color: rgb(126\, 126\, 126)\; line-height: 16px\; ">Large groups welcome! Bring scout troops\, youth groups\, senior citizen<br />\n			groups\, any civic group! A limited number of golf carts available for<br />\n			handicapped/disabled&mdash\;please advise and make sure reservation operator knows<br />\n			if you need to reserve one.</p>\n\n			<p style="margin: 0px 0px 15px\; padding: 0px\; border: 0px\; outline: 0px\; vertical-align: baseline\; background-color: transparent\; color: rgb(126\, 126\, 126)\; line-height: 16px\; ">Best of all\, Bethlehem Walk is a FREE gift to one and all. For scheduling<br />\n			purposes\, it is requested that reservations be made. On Thursday evening<br />\n			guides will be available to interpret in Spanish. Please let the operator<br />\n			know if you would like to be in one of these groups. Please call the<br />\n			Reservation Hotline 918-232-3587. Nov.12th Operators on duty from 6:00 &ndash\; 9:00<br />\n			p.m. nightly\, or leave a text message 24 hours a day and an operator will be<br />\n			back in touch to schedule your time. You can also go to our website&nbsp\;<a href="http://www.christview.org/" style="margin: 0px\; padding: 0px\; border: 0px\; outline: 0px\; vertical-align: baseline\; background-color: transparent\; color: rgb(7\, 113\, 184)\; ">www.christview.org</a>&nbsp\;and click the Special<br />\n			Events link. Find us Facebook/christviewchristian.</p>\n\n			<p style="margin: 0px 0px 15px\; padding: 0px\; border: 0px\; outline: 0px\; vertical-align: baseline\; background-color: transparent\; color: rgb(126\, 126\, 126)\; line-height: 16px\; ">You will want to make this an annual tradition for your family and friends!</p>\n\n			<p style="margin: 0px 0px 15px\; padding: 0px\; border: 0px\; outline: 0px\; vertical-align: baseline\; background-color: transparent\; color: rgb(126\, 126\, 126)\; line-height: 16px\; ">CALL NOW TO RESERVE YOUR TIME FOR A WONDERFUL FREE HOLIDAY EVENING! DRESS ACCORDING TO WEATHER</p>\n			</td>\n		</tr>\n	</tbody>\n</table>\n
LOCATION:ChristVeiw Christian Church 2525 S Garnett\, Tulsa\, OK
UID:e.1611.236
SEQUENCE:3
DTSTAMP:20260421T192157Z
URL:https://portal.bixbychamber.com/events/details/2012-bethlehem-walk-11-29-2012-236
END:VEVENT

END:VCALENDAR
