BEGIN:VCALENDAR
VERSION:2.0
PRODID:-//ChamberMaster//Event Calendar 2.0//EN
METHOD:PUBLISH
X-PUBLISHED-TTL:P3D
REFRESH-INTERVAL:P3D
CALSCALE:GREGORIAN
BEGIN:VEVENT
DTSTART:20121128T230000Z
DTEND:20121129T010000Z
X-MICROSOFT-CDO-ALLDAYEVENT:FALSE
SUMMARY:2012 Barry Switzer Signing at Parkhill's Liquors and Wine South
DESCRIPTION:CALLING ALL COACH BARRY SWITZER FANS! Legendary Coach Barry Switzer will be presenting his 2009 Cabernet Sauvignon and signing bottles and any OU\n\nmemorabilia at Parkhill's Liquors and Wine South\, 10018 South Memorial on\n\nWednesday\, November 28 5PM-7PM. Additionally\, there will a live remote broadcast from 96.5. This event is open to the public\; however\, persons must be 21 years of age\n\nor older.
X-ALT-DESC;FMTTYPE=text/html:CALLING ALL COACH BARRY SWITZER FANS! Legendary Coach Barry Switzer will be presenting his 2009 Cabernet Sauvignon and signing bottles and any OU<br />\nmemorabilia at Parkhill&rsquo\;s Liquors and Wine South\, 10018 South Memorial on<br />\nWednesday\, November 28 5PM-7PM. Additionally\, there will a live remote broadcast from 96.5. This event is open to the public\; however\, persons must be 21 years of age<br />\nor older.
LOCATION:Parkhill's Liquors and Wine South 10018 South Memorial Drive\, Tulsa\, OK 74133
UID:e.1611.251
SEQUENCE:3
DTSTAMP:20260421T215445Z
URL:https://portal.bixbychamber.com/events/details/2012-barry-switzer-signing-at-parkhill-s-liquors-and-wine-south-11-28-2012-251
END:VEVENT

END:VCALENDAR
