BEGIN:VCALENDAR
VERSION:2.0
PRODID:-//ChamberMaster//Event Calendar 2.0//EN
METHOD:PUBLISH
X-PUBLISHED-TTL:P3D
REFRESH-INTERVAL:P3D
CALSCALE:GREGORIAN
BEGIN:VEVENT
DTSTART:20121208T000000Z
DTEND:20121208T000000Z
X-MICROSOFT-CDO-ALLDAYEVENT:FALSE
SUMMARY:2012 BallyHoo Creative Group- Grand Opening
DESCRIPTION:Join us in celebrating our Grand Opening! Live music\, food\, drinks and prizes.
X-ALT-DESC;FMTTYPE=text/html:Join us in celebrating our Grand Opening! Live music\, food\, drinks and prizes.&nbsp\;
LOCATION:Epicentre 2510 E 15th Street Tulsa\, OK 74104
UID:e.1611.317
SEQUENCE:3
DTSTAMP:20260421T192946Z
URL:https://portal.bixbychamber.com/events/details/2012-ballyhoo-creative-group-grand-opening-12-07-2012-317
END:VEVENT

END:VCALENDAR
