BEGIN:VCALENDAR
VERSION:2.0
PRODID:-//ChamberMaster//Event Calendar 2.0//EN
METHOD:PUBLISH
X-PUBLISHED-TTL:P3D
REFRESH-INTERVAL:P3D
CALSCALE:GREGORIAN
BEGIN:VEVENT
DTSTART:20120410T160000Z
DTEND:20120410T193000Z
X-MICROSOFT-CDO-ALLDAYEVENT:FALSE
SUMMARY:2012 April Expand Your Umbrella Lunch
DESCRIPTION:
X-ALT-DESC;FMTTYPE=text/html:
LOCATION:
UID:e.1611.173
SEQUENCE:3
DTSTAMP:20260422T052244Z
URL:https://portal.bixbychamber.com/events/details/2012-april-expand-your-umbrella-lunch-04-10-2012-173
END:VEVENT

END:VCALENDAR
